BEGIN:VCALENDAR
VERSION:2.0
PRODID:-//Volt Europa//Events//EN
CALSCALE:GREGORIAN
METHOD:PUBLISH
BEGIN:VEVENT
UID:19-maart-bespreking-europastrategie-in-de-haagse-gemeenteraad-kom-naar-
 de-tribune-1749020400@voltnederland.org
DTSTAMP:20260423T144554Z
DTSTART;TZID=Europe/Amsterdam:20250604T090000
DTEND;TZID=Europe/Amsterdam:20250604T180000
SUMMARY:4 juni bespreking Europastrategie in de Haagse gemeenteraad – kom
  naar de tribune!
DESCRIPTION:ENGLISH BELOW Op 4 juni wordt in de bestuursvergadering van de 
 gemeente Den Haag de Europastrategie besproken. Het Haagse stadsbestuur wil
  met deze strategie de samenwerking met Europa verstevigen en verbeteren\, 
 zodat Den Haag meer invloed heeft op Europees beleid en extra Europese subs
 idies krijgt. De speerpunten van de strategie zijn: duurzaamheid – energi
 etransitie\, circulaire economie en duurzame mobiliteit\; digitalisering en
  veiligheid – cybersecurity en digitale weerbaarheid\; toekomstbeste
LOCATION:Stadhuis\, Spui 70\, 2511 BT Den Haag
URL:https://voltnederland.org/zuid-holland/agenda/19-maart-bespreking-europ
 astrategie-in-de-haagse-gemeenteraad-kom-naar-de-tribune
END:VEVENT
END:VCALENDAR
