BEGIN:VCALENDAR
VERSION:2.0
PRODID:-//Volt Europa//Events//EN
CALSCALE:GREGORIAN
METHOD:PUBLISH
BEGIN:VEVENT
UID:violet-borrel-1769106600@voltnederland.org
DTSTAMP:20260424T030212Z
DTSTART;TZID=Europe/Amsterdam:20260122T193000
DTEND;TZID=Europe/Amsterdam:20260122T230000
SUMMARY:Violet borrel Zeeland
DESCRIPTION:Kom 22 januari naar de Volt Violet borrel bij de Vliegende Holl
 ander! Ben jij Volt lid\, onder de dertig\, en wil je kennis maken met je m
 ede jonge Volters? Grijp dan nu je kans! We starten om 19:30 en je eerste d
 rankje is gratis! Aanmelden kun je doen via de onderstaande knop. Let op: A
 anmelden is verplicht.
LOCATION:Vliegende Hollander\, Middelburg
URL:https://voltnederland.org/zeeland/agenda/violet-borrel
END:VEVENT
END:VCALENDAR
