BEGIN:VCALENDAR
VERSION:2.0
PRODID:-//Volt Europa//Events//EN
CALSCALE:GREGORIAN
METHOD:PUBLISH
BEGIN:VEVENT
UID:nieuwjaarsreceptie-volt-vlaanderen-1767376800@voltnederland.org
DTSTAMP:20260423T174425Z
DTSTART;TZID=Europe/Amsterdam:20260102T190000
DTEND;TZID=Europe/Amsterdam:20260102T230000
SUMMARY:Nieuwjaarsreceptie Volt Vlaanderen
DESCRIPTION:Onze Vlaamse buren houden een nieuwjaarsreceptie. Wij willen me
 t een Zeeuwse delegatie aansluiten. Er zal hiervoor ook een carpool georgan
 iseerd worden. Wil je hierbij aansluiten? Meld je dan ook in onze appgroepe
 n of stuur ons een mailtje!
LOCATION:Ship & Sip\, Handelsdokkaai 18\, Gent
URL:https://voltnederland.org/zeeland/agenda/nieuwjaarsreceptie-volt-vlaand
 eren
END:VEVENT
END:VCALENDAR
