BEGIN:VCALENDAR
VERSION:2.0
PRODID:-//Volt Europa//Events//EN
CALSCALE:GREGORIAN
METHOD:PUBLISH
BEGIN:VEVENT
UID:nieuwjaarsreceptie-volt-belgie-1768586400@voltnederland.org
DTSTAMP:20260423T211904Z
DTSTART;TZID=Europe/Amsterdam:20260116T190000
DTEND;TZID=Europe/Amsterdam:20260116T223000
SUMMARY:Nieuwjaarsreceptie Volt België
DESCRIPTION:Het bestuur van Volt België houdt een nieuwjaarsreceptie. Wij 
 willen met een Zeeuwse delegatie aansluiten. Er zal hiervoor ook een carpoo
 l georganiseerd worden. Wil je hierbij aansluiten? Meld je dan ook in onze 
 appgroepen of stuur ons een mailtje! Let op: Voor dit evenement moet online
  een ticket worden besteld. Gebruik daarvoor onderstaande button.
LOCATION:Reiscafé via via Mechelen (aparte zaal zolder)\, Zandpoortvest 50
 \,2800 Mechelen
URL:https://voltnederland.org/zeeland/agenda/nieuwjaarsreceptie-volt-belgie
END:VEVENT
END:VCALENDAR
