BEGIN:VCALENDAR
VERSION:2.0
PRODID:-//Volt Europa//Events//EN
CALSCALE:GREGORIAN
METHOD:PUBLISH
BEGIN:VEVENT
UID:community-borrel-zeeland-1767981600@voltnederland.org
DTSTAMP:20260423T173817Z
DTSTART;TZID=Europe/Amsterdam:20260109T190000
DTEND;TZID=Europe/Amsterdam:20260109T223000
SUMMARY:Community borrel Zeeland
DESCRIPTION:Iedere tweede vrijdag van de maand komen wij als Community same
 n om te borrelen en te praten over politieke thema's die Zeeland\, Nederlan
 d en Europa aangaan.
LOCATION:Café Cliché\, Middelburg
URL:https://voltnederland.org/zeeland/agenda/community-borrel-zeeland
END:VEVENT
END:VCALENDAR
