BEGIN:VCALENDAR
VERSION:2.0
PRODID:-//Volt Europa//Events//EN
CALSCALE:GREGORIAN
METHOD:PUBLISH
BEGIN:VEVENT
UID:borrel-volt-zeeland-1775844000@voltnederland.org
DTSTAMP:20260423T023140Z
DTSTART;TZID=Europe/Amsterdam:20260410T200000
DTEND;TZID=Europe/Amsterdam:20260410T220000
SUMMARY:Borrel Volt Zeeland
DESCRIPTION:Het oprichtingscongres zit erop\, maar de echte reis begint nu 
 pas. Kom daarom gezellig langs op onze borrel. We vieren de oprichting van 
 Volt Zeeland\, maar kijken ook duidelijk vooruit. Tijdens de avond gaan we 
 graag met je in gesprek over wat jij kunt betekenen voor onze nieuwe afdeli
 ng. Natuurlijk ben je ook van harte welkom puur voor de gezelligheid. Heb j
 e geen tijd om je als vrijwilliger in te zetten? Geen probleem. Kom gerust 
 langs voor een drankje\, eventueel samen met een vriend of vriend
LOCATION:Cafe 32\, Goes
URL:https://voltnederland.org/zeeland/agenda/borrel-volt-zeeland
END:VEVENT
END:VCALENDAR
