BEGIN:VCALENDAR
VERSION:2.0
PRODID:-//Volt Europa//Events//EN
CALSCALE:GREGORIAN
METHOD:PUBLISH
BEGIN:VEVENT
UID:zomervakantie-1721505600@voltnederland.org
DTSTAMP:20260423T142505Z
DTSTART;TZID=Europe/Amsterdam:20240720T220000
DTEND;TZID=Europe/Amsterdam:20240901T220000
SUMMARY:Zomervakantie!
DESCRIPTION:Van 20 juli t/m 1 september is het zomervakantie in regio Noord
 -Nederland! De fractie heeft zomerrecces en deze tijd gebruiken wij ook om 
 even goed uit te rusten en te genieten van het mooie weer. Er worden wellic
 ht spontaan wat activiteiten georganiseerd\, maar geen grote dingen omdat e
 r veel mensen op vakantie zijn. Wil je op de hoogte blijven en zit je nog n
 iet in de Volt whatsapp of signal groep (en wil je daar wel in?) Stuur een 
 mailtje naar twente@voltnederland.org.
LOCATION:de achtertuin
URL:https://voltnederland.org/overijssel/agenda/zomervakantie
END:VEVENT
END:VCALENDAR
