BEGIN:VCALENDAR
VERSION:2.0
PRODID:-//Volt Europa//Events//EN
CALSCALE:GREGORIAN
METHOD:PUBLISH
BEGIN:VEVENT
UID:zomernota1-1750269600@voltnederland.org
DTSTAMP:20260423T102048Z
DTSTART;TZID=Europe/Amsterdam:20250618T200000
DTEND;TZID=Europe/Amsterdam:20250618T220000
SUMMARY:Zomernota
DESCRIPTION:Op 7 juli bespreekt de gemeenteraad van Enschede de zomernota. 
 Dit is een belangrijk moment. Politieke partijen kunnen dan nog voorstellen
  doen om het geld anders te verdelen in Enschede. Wil je weten hoe dit bela
 ngrijke document werkt? Kom dan langs en help de Volt-fractie met goede ide
 eën. Op 18 juni geeft de fractie een korte uitleg over de zomernota. Op 25
  juni gaan we er dieper op in en kunnen we samen voorstellen of verandering
 en bedenken.
LOCATION:Enschede\, gemeentehuis
URL:https://voltnederland.org/overijssel/agenda/zomernota1
END:VEVENT
END:VCALENDAR
