BEGIN:VCALENDAR
VERSION:2.0
PRODID:-//Volt Europa//Events//EN
CALSCALE:GREGORIAN
METHOD:PUBLISH
BEGIN:VEVENT
UID:werksessie-verkiezingsprogramma-deventer-1757851200@voltnederland.org
DTSTAMP:20260425T102352Z
DTSTART;TZID=Europe/Amsterdam:20250914T140000
DTEND;TZID=Europe/Amsterdam:20250914T170000
SUMMARY:Werksessie verkiezingsprogramma Deventer
DESCRIPTION:Wie: Volt Leden Wat: Werksessie verkiezingsprogramma Deventer W
 aar: Wijkvereniging De Driehoek\, Rielerweg 110\, Deventer Wanneer: Zondag 
 14 september\, 14:00 - 17:00 uur Volt Deventer werkt aan een krachtig en to
 ekomstgericht verkiezingsprogramma voor de gemeenteraadsverkiezingen van 20
 26. Na een eerste bijeenkomst in juli\, nodigen we je nu uit voor een tweed
 e werksessie op zondag 14 september. Tijdens deze middag gaan we in gesprek
  over de koers van onze gemeente\, scherpen we voorstellen aan en s
LOCATION:Deventer
URL:https://voltnederland.org/overijssel/agenda/werksessie-verkiezingsprogr
 amma-deventer
END:VEVENT
END:VCALENDAR
