BEGIN:VCALENDAR
VERSION:2.0
PRODID:-//Volt Europa//Events//EN
CALSCALE:GREGORIAN
METHOD:PUBLISH
BEGIN:VEVENT
UID:vrouwen-themadagen-3-1741424400@voltnederland.org
DTSTAMP:20260423T114049Z
DTSTART;TZID=Europe/Amsterdam:20250308T100000
DTEND;TZID=Europe/Amsterdam:20250308T120000
SUMMARY:De rol van je gender - themadag 3
DESCRIPTION:Wie: Iedereen Wat: themabijeenkomsten over de rol van je gender
  Waar: Zwolle Wanneer: 8 maart van 10:00 tot 12:00  Mannen\, vrouwen of di
 vers\, we zijn allemaal mensen. Maar waarom is de wereld zoveel meer ingeri
 cht op de man? Tijd voor de rest om ook de vleugels uit te slaan! Samen als
  mensheid\, met onze krachten gebundeld\, komen we verder. Kom naar onze th
 emabijeenkomsten en praat mee over genderverschillen in de samenleving en d
 e politiek. Dit is de derde dag in deze reeks. Van 10:00-12:00 kome
LOCATION:Zwolle\, tbd
URL:https://voltnederland.org/overijssel/agenda/vrouwen-themadagen-3
END:VEVENT
END:VCALENDAR
