BEGIN:VCALENDAR
VERSION:2.0
PRODID:-//Volt Europa//Events//EN
CALSCALE:GREGORIAN
METHOD:PUBLISH
BEGIN:VEVENT
UID:voorbereidingen-grv-hengelo-1741717800@voltnederland.org
DTSTAMP:20260423T212112Z
DTSTART;TZID=Europe/Amsterdam:20250311T193000
DTEND;TZID=Europe/Amsterdam:20250311T220000
SUMMARY:Voorbereidingen GRV Hengelo
DESCRIPTION:Hengelo had al 4 potentiële vrouwelijke kandidaten voor de kie
 slijst\, tijdens de tweede gemeenteraadsverkiezingen bijeenkomst zijn er 3\
 , misschien zelfs 4 mannelijke opties bij gekomen. Daarnaast zijn er leden 
 die hebben aangegeven de kandidaten te willen ondersteunen. De in totaal 13
  leden zijn enthousiast verder gegaan met de voorbereidingen. Op 11 februar
 i is er gesproken over het tijdschema voor de verkiezingen en de verschille
 nde taken/rollen die ingevuld moeten worden.  Op 11 maart gaan we
LOCATION:Hengelo\, Madoerastraat 39
URL:https://voltnederland.org/overijssel/agenda/voorbereidingen-grv-hengelo
END:VEVENT
END:VCALENDAR
