BEGIN:VCALENDAR
VERSION:2.0
PRODID:-//Volt Europa//Events//EN
CALSCALE:GREGORIAN
METHOD:PUBLISH
BEGIN:VEVENT
UID:volts-grote-winterborrel-2025-meppel-1766257200@voltnederland.org
DTSTAMP:20260423T174158Z
DTSTART;TZID=Europe/Amsterdam:20251220T200000
DTEND;TZID=Europe/Amsterdam:20251220T230000
SUMMARY:Volt's grote Winterborrel 2025 - Meppel
DESCRIPTION:Het einde van het jaar nadert en dat vieren we graag samen. Kom
  langs voor een gezellige winterse borrel\, warme gesprekken en een ontspan
 nen sfeer waarin we samen terugkijken op het jaar en vooruitblikken op wat 
 er komt. 🎉 Een avond vol borrels\, babbels en bekende en nieuwe gezichte
 n. Iedereen is welkom\, dus neem gerust iemand mee. 😄
LOCATION:De Oasis - Kerkplein 15 Meppel
URL:https://voltnederland.org/agenda/volts-grote-winterborrel-2025-meppel
END:VEVENT
END:VCALENDAR
