BEGIN:VCALENDAR
VERSION:2.0
PRODID:-//Volt Europa//Events//EN
CALSCALE:GREGORIAN
METHOD:PUBLISH
BEGIN:VEVENT
UID:volt-start-1743528600@voltnederland.org
DTSTAMP:20260423T060944Z
DTSTART;TZID=Europe/Amsterdam:20250401T193000
DTEND;TZID=Europe/Amsterdam:20250401T213000
SUMMARY:Volt Start
DESCRIPTION:🔹 Wil jij  ontdekken  of (lokale) politiek iets voor jou is?
  🔹 Wil je meer leren over hoe de gemeenteraad werkt en hoe je  impact  k
 unt maken? 🔹 Zie jij jezelf als toekomstig  gemeenteraadslid ? Dan is de
   Volt Start  precies wat je zoekt! Wat kun je verwachten? In vier interact
 ieve workshops onder leiding van onze fractievoorzitter in Zwolle (Cankut E
 rcan) krijg je een  kijkje achter de schermen van de gemeentepolitiek  en l
 eer je de  vaardigheden en strategieën  die je nodig hebt als raadslid.
LOCATION:Zwolle\, raadszaal gemeentehuis\, grote kerkplein 15
URL:https://voltnederland.org/overijssel/agenda/volt-start
END:VEVENT
END:VCALENDAR
