BEGIN:VCALENDAR
VERSION:2.0
PRODID:-//Volt Europa//Events//EN
CALSCALE:GREGORIAN
METHOD:PUBLISH
BEGIN:VEVENT
UID:volt-overijssel-townhall-deventer-1780421400@voltnederland.org
DTSTAMP:20260421T150452Z
DTSTART;TZID=Europe/Amsterdam:20260602T193000
DTEND;TZID=Europe/Amsterdam:20260602T213000
SUMMARY:Volt Overijssel Townhall - Deventer
DESCRIPTION:Kom in gesprek tijdens de Volt Overijssel Townhalls! Volt Overi
 jssel organiseert een Townhall in Zwolle\, Deventer en Enschede. We nodigen
  alle leden en geïnteresseerden van harte uit om mee te praten over onderw
 erpen die zowel de provincie als de gemeente raken. - In Zwolle gaan we het
  hebben over circulaire economie en ondernemerschap: hoe kunnen we samenwer
 ken om de transitie naar een circulaire economie te versnellen\, en hoe ond
 ersteunen we ondernemers hierbij? - In Enschede zullen we kijken 
LOCATION:Deventer
URL:https://voltnederland.org/overijssel/agenda/volt-overijssel-townhall-de
 venter
END:VEVENT
END:VCALENDAR
