BEGIN:VCALENDAR
VERSION:2.0
PRODID:-//Volt Europa//Events//EN
CALSCALE:GREGORIAN
METHOD:PUBLISH
BEGIN:VEVENT
UID:verkiezingsavondtkv2025-1761766200@voltnederland.org
DTSTAMP:20260423T114136Z
DTSTART;TZID=Europe/Amsterdam:20251029T203000
DTEND;TZID=Europe/Amsterdam:20251029T220000
SUMMARY:Verkiezingsavond
DESCRIPTION:Wie: Iedereen is welkom Wat: Verkiezingsavond Tweede kamer verk
 iezingen Waar: De Vluchte\, Oldenzaalsestraat 153a\, Enschede Op woensdag 2
 9 oktober zijn de verkiezingen. 's Avonds gaan we samen met z'n allen borre
 len bij de Vluchte en kijken naar de uitslagen.
LOCATION:Enschede\, de Vluchte
URL:https://voltnederland.org/overijssel/agenda/verkiezingsavondtkv2025
END:VEVENT
END:VCALENDAR
