BEGIN:VCALENDAR
VERSION:2.0
PRODID:-//Volt Europa//Events//EN
CALSCALE:GREGORIAN
METHOD:PUBLISH
BEGIN:VEVENT
UID:tweede-kamer-fractie-in-twente-1711119600@voltnederland.org
DTSTAMP:20260423T143823Z
DTSTART;TZID=Europe/Amsterdam:20240322T160000
DTEND;TZID=Europe/Amsterdam:20240322T180000
SUMMARY:Tweede kamer fractie in Twente
DESCRIPTION:Op 22 maart komt Marieke Koekkoek met een aantal fractieonderst
 euners naar Twente voor een werkbezoek. Ze willen graag de dag afsluiten me
 t een aantal Volt-leden in Enschede. Locatie en precieze tijdstip zijn nog 
 onbekend\, maar zullen gedeeld worden zodra we meer weten. Hou de site of d
 e Volt Twente Signal/Whatsapp groepen goed in de gaten als je erbij wilt zi
 jn!
LOCATION:tbd
URL:https://voltnederland.org/overijssel/agenda/tweede-kamer-fractie-in-twe
 nte
END:VEVENT
END:VCALENDAR
