BEGIN:VCALENDAR
VERSION:2.0
PRODID:-//Volt Europa//Events//EN
CALSCALE:GREGORIAN
METHOD:PUBLISH
BEGIN:VEVENT
UID:themaavond-oorlog-en-defensie-1734116400@voltnederland.org
DTSTAMP:20260423T114247Z
DTSTART;TZID=Europe/Amsterdam:20241213T200000
DTEND;TZID=Europe/Amsterdam:20241213T220000
SUMMARY:Politieke avond Enschede - Oorlog en Defensie
DESCRIPTION:Wat: Volt Twente Politieke avond  Voor wie:  Volt-leden en ie
 dereen die Volt interessant vindt Wanneer:  vrijdag de 13e december\, 20:0
 0 tot 22:00\, inloop 19:45 Waar:  Enschede\, Wijkpunt de Heurne Onderwerp:
   Oorlog en Defensie Algemeen: We willen iedereen die Volt interessant vin
 dt een plek bieden om elkaar te leren kennen\, en te praten over Enschede\,
  Europa\, en politiek. Het idee is vooral om je eigen horizon te verbreden\
 , kennis te maken met nieuwe/gezellige mensen en in een ontspannen\, open e
LOCATION:Enschede\, de Heurne 32\, Wijkpunt de Heurne
URL:https://voltnederland.org/agenda/themaavond-oorlog-en-defensie
END:VEVENT
END:VCALENDAR
