BEGIN:VCALENDAR
VERSION:2.0
PRODID:-//Volt Europa//Events//EN
CALSCALE:GREGORIAN
METHOD:PUBLISH
BEGIN:VEVENT
UID:thema-middag-partnergeweld-1748007000@voltnederland.org
DTSTAMP:20260423T143214Z
DTSTART;TZID=Europe/Amsterdam:20250523T153000
DTEND;TZID=Europe/Amsterdam:20250523T170000
SUMMARY:Thema middag - Partnergeweld
DESCRIPTION:Op initiatief van D66\, PvdA en Volt organiseren we op 23 mei e
 en themamiddag over partnergeweld en femicide. Nederland kent helaas een va
 n de hoogste femicidecijfers van Europa. Ook in Zwolle nemen meldingen van 
 huiselijk en seksueel geweld toe. We gaan in gesprek over wat we lokaal kun
 nen doen. Met o.a. Eerste Kamerlid Boris Dittrich\, maatschappelijke organi
 saties zoals Kadera en Platform Kansenongelijkheid\, én met inwoners. Onze
  fractiemedewerker Sidney is medeorganisator\, Cankut zal de bijeen
LOCATION:Zwolle\, Cultuurhuis stadshagen
URL:https://voltnederland.org/overijssel/agenda/thema-middag-partnergeweld
END:VEVENT
END:VCALENDAR
