BEGIN:VCALENDAR
VERSION:2.0
PRODID:-//Volt Europa//Events//EN
CALSCALE:GREGORIAN
METHOD:PUBLISH
BEGIN:VEVENT
UID:run4volt-ov2-1751700600@voltnederland.org
DTSTAMP:20260423T101920Z
DTSTART;TZID=Europe/Amsterdam:20250705T093000
DTEND;TZID=Europe/Amsterdam:20250705T123000
SUMMARY:Run4Volt
DESCRIPTION:Doe mee aan Run4Volt Overijssel Wil jij op een laagdrempelige m
 anier kennismaken met de lokale politiek en samen met andere Volters ontdek
 ken of het raadslidmaatschap wat voor jou is? Doe dan mee met het Run4Volt-
 programma van Volt Overijssel. Ook als je je al hebt aangemeld als kandidaa
 t is dit programma wat voor jou!  In twee bijeenkomsten leer je onder ander
 e: - hoe de gemeentepolitiek werkt\; - wat het betekent om raadslid te zijn
 \; - hoe je op lokaal niveau het Voltgeluid kunt laten horen\; - 
LOCATION:Deventer
URL:https://voltnederland.org/overijssel/agenda/run4volt-ov2
END:VEVENT
END:VCALENDAR
