BEGIN:VCALENDAR
VERSION:2.0
PRODID:-//Volt Europa//Events//EN
CALSCALE:GREGORIAN
METHOD:PUBLISH
BEGIN:VEVENT
UID:purple-wave-twente-met-gaby-perin-gopie-1773480600@voltnederland.org
DTSTAMP:20260423T025520Z
DTSTART;TZID=Europe/Amsterdam:20260314T103000
DTEND;TZID=Europe/Amsterdam:20260314T180000
SUMMARY:Purple Wave Twente met Gaby Perin-Gopie
DESCRIPTION:Wie: Volt leden en enthousiastelingen Wat: Campagne in Enschede
 \, Hengelo en Almelo Waar: In het centrum en in de trein Wanneer: 14 maart 
 van 10:30-18:00 Op 18 maart a.s. worden in Nederland de Gemeenteraadsverkie
 zingen gehouden. In Almelo\, Hengelo en Enschede doen we ook mee en we hebb
 en een goede kans om deze steden een of meerdere zetels te winnen. Op zater
 dag 14 maart organiseren we een paarse golf door Twente. We beginnen in Ens
 chede en gaan dan door via Hengelo naar Almelo. We doen dat met 
LOCATION:Twente
URL:https://voltnederland.org/overijssel/agenda/purple-wave-twente-met-gaby
 -perin-gopie
END:VEVENT
END:VCALENDAR
