BEGIN:VCALENDAR
VERSION:2.0
PRODID:-//Volt Europa//Events//EN
CALSCALE:GREGORIAN
METHOD:PUBLISH
BEGIN:VEVENT
UID:open-dag-vrouwenenschede-1738400400@voltnederland.org
DTSTAMP:20260423T102053Z
DTSTART;TZID=Europe/Amsterdam:20250201T100000
DTEND;TZID=Europe/Amsterdam:20250201T160000
SUMMARY:Open dag: Meer Vrouwen in de Enschedese Politiek
DESCRIPTION:Ben je benieuwd naar wat er allemaal gebeurt in het stadhuis? O
 f heb je altijd al eens willen weten hoe het is om werkzaam te zijn in de p
 olitiek? Dan is dit je kans! Kom op 1 februari ’s ochtends (10:00 – 12:
 30 uur) of ’s middags (13:30 – 16:00 uur) naar het stadhuis. Daar kun j
 e een rondleiding volgen en in gesprek gaan met vrouwelijke gemeenteraadsle
 den. Meld je uiterlijk 28 januari aan via  raadsgriffie@enschede.nl . Hopel
 ijk zien we je op 1 februari!
LOCATION:Stadhuis Enschede
URL:https://voltnederland.org/overijssel/agenda/open-dag-vrouwenenschede
END:VEVENT
END:VCALENDAR
