BEGIN:VCALENDAR
VERSION:2.0
PRODID:-//Volt Europa//Events//EN
CALSCALE:GREGORIAN
METHOD:PUBLISH
BEGIN:VEVENT
UID:nieuwjaarsborrel-fractie-enschede-1737820800@voltnederland.org
DTSTAMP:20260423T114254Z
DTSTART;TZID=Europe/Amsterdam:20250125T170000
DTEND;TZID=Europe/Amsterdam:20250125T230000
SUMMARY:Nieuwjaarsborrel fractie Enschede
DESCRIPTION:Wat: Nieuwjaarsborrel Volt Enschede Voor wie:  Volt-leden en i
 edereen die Volt interessant vindt Wanneer:  zaterdag 25 januari 2025\, 17
 :00 tot 23:00 Waar:  Hengelo\, 't Neutje We willen samen met de leden uit E
 nschede het nieuwe jaar vieren!  Voor wat friet en snacks wordt gezorgd.
LOCATION:Hengelo\, 't Neutje
URL:https://voltnederland.org/overijssel/agenda/nieuwjaarsborrel-fractie-en
 schede
END:VEVENT
END:VCALENDAR
