BEGIN:VCALENDAR
VERSION:2.0
PRODID:-//Volt Europa//Events//EN
CALSCALE:GREGORIAN
METHOD:PUBLISH
BEGIN:VEVENT
UID:nieuwjaarsborrel-enschede-1768050000@voltnederland.org
DTSTAMP:20260424T030643Z
DTSTART;TZID=Europe/Amsterdam:20260110T140000
DTEND;TZID=Europe/Amsterdam:20260110T220000
SUMMARY:Knutselmiddag en Nieuwjaarsborrel Enschede
DESCRIPTION:De verkiezingen komen eraan\, tijd om bij elkaar te komen en on
 ze creatieve ideeën vorm te geven. Daarom houden we een knutsel- en campag
 ne middag van 14:00 - 16:30. We gaan bezig met pen\, papier en stiften\, li
 nten en blik. Heb jij goede ideeen? Kom ook langs! Locatie: Wijkpunt de Heu
 rne Enschede Wat: Knutselmiddag Wanneer: 14:00 - 16:30 Na afloop houdt de f
 ractie van Enschede haar nieuwjaarsborrel. Deze vindt naar alle waarschijnl
 ijkheid plaats in de Vluchte. De eerste drankjes worden betaald do
LOCATION:tbd
URL:https://voltnederland.org/overijssel/agenda/nieuwjaarsborrel-enschede
END:VEVENT
END:VCALENDAR
