BEGIN:VCALENDAR
VERSION:2.0
PRODID:-//Volt Europa//Events//EN
CALSCALE:GREGORIAN
METHOD:PUBLISH
BEGIN:VEVENT
UID:nationale-opschoondag2025-1742634000@voltnederland.org
DTSTAMP:20260423T144125Z
DTSTART;TZID=Europe/Amsterdam:20250322T100000
DTEND;TZID=Europe/Amsterdam:20250322T120000
SUMMARY:Landelijke Opschoondag
DESCRIPTION:Wie: Iedereen is welkom Wat: Afvalprikken Waar: Enschede kruisi
 ng Deurningerstraat/Boddenkampsingel Wanneer: 22 maart van 10:00 - 12:00 Op
  22 maart is het landelijke opschoondag! En ook dit jaar doen we natuurlijk
  weer mee. In Enschede verzamelen we bij kruising Deurningerstraat/Boddenka
 mpsingel. We vertrekken om 10:00 uur en sluiten om 12:00 uur samen af met k
 offie en thee. Doe je ook mee? Lekker buiten actief bezig zijn\, de stad ee
 n beetje schoner maken en een goed gesprek met andere Volt lede
LOCATION:Enschede
URL:https://voltnederland.org/overijssel/agenda/nationale-opschoondag2025
END:VEVENT
END:VCALENDAR
