BEGIN:VCALENDAR
VERSION:2.0
PRODID:-//Volt Europa//Events//EN
CALSCALE:GREGORIAN
METHOD:PUBLISH
BEGIN:VEVENT
UID:mystery-coffee-1735739040@voltnederland.org
DTSTAMP:20260423T061115Z
DTSTART;TZID=Europe/Amsterdam:20250101T144400
DTEND;TZID=Europe/Amsterdam:20260101T144400
SUMMARY:Mystery coffee
DESCRIPTION:Wil je meer mensen leren kennen of een goed gesprek aangaan? Bi
 j Volt geloven we dat vreemden vrienden zijn die je nog niet hebt ontmoet. 
 We willen jou dus de mogelijkheid geven om in contact te komen met Volt led
 en van over heel Europa. Voor een kort praatje of voor het volgende sociale
  of innovatieve actie… Dat is aan jou.
LOCATION:Doorlopende activiteit\, Online
URL:https://voltnederland.org/overijssel/agenda/mystery-coffee
END:VEVENT
END:VCALENDAR
