BEGIN:VCALENDAR
VERSION:2.0
PRODID:-//Volt Europa//Events//EN
CALSCALE:GREGORIAN
METHOD:PUBLISH
BEGIN:VEVENT
UID:meeting-zwolle-202501-1736881200@voltnederland.org
DTSTAMP:20260423T114106Z
DTSTART;TZID=Europe/Amsterdam:20250114T200000
DTEND;TZID=Europe/Amsterdam:20250114T223000
SUMMARY:Monthly Meeting Zwolle
DESCRIPTION:Er staat weer weer een Monthly meeting op de planning! Aan het 
 programma wordt nog gewerkt. Praktische informatie Datum: 14 januari  Tijd:
  Inloop vanaf 20:00 Locatie: CafÃ© Het Vliegende Paard Zwolle Aanmelden voo
 r de Monthly meeting is niet nodig\, deelname is kosteloos en inclusief Ã©Ã
 ©n gratis consumptie
LOCATION:Zwolle\, CafÃ© het vliegende paard
URL:https://voltnederland.org/overijssel/agenda/meeting-zwolle-202501
END:VEVENT
END:VCALENDAR
