BEGIN:VCALENDAR
VERSION:2.0
PRODID:-//Volt Europa//Events//EN
CALSCALE:GREGORIAN
METHOD:PUBLISH
BEGIN:VEVENT
UID:meet-greet-kandidaten-hengelo-1758821400@voltnederland.org
DTSTAMP:20260423T115426Z
DTSTART;TZID=Europe/Amsterdam:20250925T193000
DTEND;TZID=Europe/Amsterdam:20250925T213000
SUMMARY:Meet & Greet kandidaten Hengelo
DESCRIPTION:Wie: Iedereen die geinteresseerd is Wat: Meet & Greet met de ka
 ndidaten van Volt Hengelo Waar: Museum Hengelo\, Beekstraat 51\, 7551DP Hen
 gelo Wanneer: 25 september  Kom langs en ontmoet de kandidaat raadsleden va
 n Volt in Hengelo!
LOCATION:Museum Hengelo
URL:https://voltnederland.org/overijssel/agenda/meet-greet-kandidaten-henge
 lo
END:VEVENT
END:VCALENDAR
