BEGIN:VCALENDAR
VERSION:2.0
PRODID:-//Volt Europa//Events//EN
CALSCALE:GREGORIAN
METHOD:PUBLISH
BEGIN:VEVENT
UID:lightningdrink-nov-2025-1764356400@voltnederland.org
DTSTAMP:20260423T102135Z
DTSTART;TZID=Europe/Amsterdam:20251128T200000
DTEND;TZID=Europe/Amsterdam:20251128T220000
SUMMARY:Lightning Drink - kennismaking kandidaten Enschede
DESCRIPTION:Wanneer: vrijdag 28 nov van 20:00 ~ 22:00 Wie: Volt leden en ge
 ïnteresseerden Wat: Volt Lightning Drink Waar: De Vluchte\, Enschede\, Old
 enzaalsestraat 153a Vanaf 20:00 ben je van harte welkom voor een gezellige 
 Volt Lightning drink in de Vluchte. Geniet van een drankje terwijl je kunt 
 kennismaken met de kandidaten van Enschede. Er is volop gelegenheid om te p
 raten of om gewoon gezellig te borrelen. Kom langs\, ontmoet anderen en laa
 t je inspireren door de invloed die politiek kan hebben. Opgeven i
LOCATION:Enschede\, de Vluchte
URL:https://voltnederland.org/overijssel/agenda/lightningdrink-nov-2025
END:VEVENT
END:VCALENDAR
