BEGIN:VCALENDAR
VERSION:2.0
PRODID:-//Volt Europa//Events//EN
CALSCALE:GREGORIAN
METHOD:PUBLISH
BEGIN:VEVENT
UID:lightningdrink-mei2026-1777658400@voltnederland.org
DTSTAMP:20260421T150401Z
DTSTART;TZID=Europe/Amsterdam:20260501T200000
DTEND;TZID=Europe/Amsterdam:20260501T220000
SUMMARY:Lightning Drink - After campagne borrel
DESCRIPTION:Wanneer: 1 mei van 20:00 ~ 22:00 Wie: Volt leden en geïnteress
 eerden Wat: Volt Lightning Drink Waar: De Vluchte\, Enschede\, Oldenzaalses
 traat 153a Vanaf 20:00 ben je van harte welkom voor een gezellige Volt Ligh
 tning drink in de Vluchte. Geniet van een drankje terwijl je luistert naar 
 de de fractieupdate. Daarna is er volop gelegenheid om verder te praten of 
 om gewoon gezellig te borrelen. Kom langs\, ontmoet anderen en laat je insp
 ireren door de invloed die politiek kan hebben. Thema: After-campa
LOCATION:Enschede\, de Vluchte
URL:https://voltnederland.org/overijssel/agenda/lightningdrink-mei2026
END:VEVENT
END:VCALENDAR
