BEGIN:VCALENDAR
VERSION:2.0
PRODID:-//Volt Europa//Events//EN
CALSCALE:GREGORIAN
METHOD:PUBLISH
BEGIN:VEVENT
UID:lightningdrink-juni-1749231000@voltnederland.org
DTSTAMP:20260423T101922Z
DTSTART;TZID=Europe/Amsterdam:20250606T193000
DTEND;TZID=Europe/Amsterdam:20250606T220000
SUMMARY:Lightning Drink
DESCRIPTION:Wanneer: 6 juni van 19:30 ~ 22:00 Wie: Volt leden en geïnteres
 seerden Wat: Volt Lightning Drink Waar: De Vluchte\, Enschede\, Oldenzaalse
 straat 153a Vanaf 19:30 ben je van harte welkom voor een gezellige Volt Lig
 htning drink in de Vluchte. Geniet van een drankje terwijl je luistert naar
  de de fractieupdate. Daarna is er volop gelegenheid om verder te praten of
  om gewoon gezellig te borrelen. Kom langs\, ontmoet anderen en laat je ins
 pireren door de invloed die politiek kan hebben. Opgeven is niet n
LOCATION:Enschede\, de Vluchte
URL:https://voltnederland.org/overijssel/agenda/lightningdrink-juni
END:VEVENT
END:VCALENDAR
