BEGIN:VCALENDAR
VERSION:2.0
PRODID:-//Volt Europa//Events//EN
CALSCALE:GREGORIAN
METHOD:PUBLISH
BEGIN:VEVENT
UID:landelijke-opschoondag-1711184400@voltnederland.org
DTSTAMP:20260423T102219Z
DTSTART;TZID=Europe/Amsterdam:20240323T100000
DTEND;TZID=Europe/Amsterdam:20240323T120000
SUMMARY:Landelijke opschoondag
DESCRIPTION:Wat: Landelijke opschoondag\, vuilprikken Waar: Westerstraat En
 schede en Madoerastraat Hengelo Wanneer: 23 maart van 10:00 - 12:00 Op 23 m
 aart is de landelijke opschoondag\, dan gaan we in Enschede en Hengelo aan 
 de slag. In Enschede verzamelen we op de Westerstraat\, en in Hengelo bij d
 e Madoerastraat 39. Wij zorgen voor wat basisbenodigdheden. We beginnen om 
 10:00 uur en sluiten om 12:00 uur samen af met koffie en thee. Vragen kun j
 e mailen naar twente@voltnederland.org
LOCATION:Enschede (westerstraat) & Hengelo (Madoerastraat)
URL:https://voltnederland.org/overijssel/agenda/landelijke-opschoondag
END:VEVENT
END:VCALENDAR
