BEGIN:VCALENDAR
VERSION:2.0
PRODID:-//Volt Europa//Events//EN
CALSCALE:GREGORIAN
METHOD:PUBLISH
BEGIN:VEVENT
UID:kickoff-solliciteren-grv-enschede-1749144600@voltnederland.org
DTSTAMP:20260423T142648Z
DTSTART;TZID=Europe/Amsterdam:20250605T193000
DTEND;TZID=Europe/Amsterdam:20250605T220000
SUMMARY:Kickoff solliciteren GRV Enschede
DESCRIPTION:Wie: Volt leden Wat: Voorbereiding sollicitatie gemeenteraadsve
 rkiezingen Enschede Waar: Buurthuis Beien Enschede\, Meeuwenstraat 160  Wan
 neer: donderdag 5 juni van 19:30 - 22:00 Op 12 juni kun je solliciteren voo
 r de gemeenteraad in Enschede! Wat moet je aanleveren\, hoe bereid je je vo
 or en hoe maak je een filmpje. Na afloop heb jij een basis om te solliciter
 en voor een plaats in de gemeenteraad. 
LOCATION:Enschede\, Buurthuis Beien
URL:https://voltnederland.org/overijssel/agenda/kickoff-solliciteren-grv-en
 schede
END:VEVENT
END:VCALENDAR
