BEGIN:VCALENDAR
VERSION:2.0
PRODID:-//Volt Europa//Events//EN
CALSCALE:GREGORIAN
METHOD:PUBLISH
BEGIN:VEVENT
UID:kick-in-2025-1755673200@voltnederland.org
DTSTAMP:20260423T142348Z
DTSTART;TZID=Europe/Amsterdam:20250820T090000
DTEND;TZID=Europe/Amsterdam:20250820T150000
SUMMARY:Kick-in Universiteit Twente
DESCRIPTION:Maak jij je zorgen over de toekomst? Zou je graag meer willen d
 oen om duurzame plannen te maken voor de toekomst? Vraag je je af waar de h
 uidige politiek mee bezig is? Wij ook! Volt wil graag betere financiering r
 ondom onderwijs\, duidelijker beleid en oplossingen die werken voor nu en t
 oekomstige generaties. Wat kan Volt misschien nog meer doen voor studenten?
  Volt gaat graag met studenten in gesprek en laat zien wat de politiek voor
  studenten kan betekenen. Daarom zijn we aanwezig op de kickin 
LOCATION:Enschede\, Universiteit Twente
URL:https://voltnederland.org/overijssel/agenda/kick-in-2025
END:VEVENT
END:VCALENDAR
