BEGIN:VCALENDAR
VERSION:2.0
PRODID:-//Volt Europa//Events//EN
CALSCALE:GREGORIAN
METHOD:PUBLISH
BEGIN:VEVENT
UID:huiskameravond-almelo-1737052200@voltnederland.org
DTSTAMP:20260423T113949Z
DTSTART;TZID=Europe/Amsterdam:20250116T193000
DTEND;TZID=Europe/Amsterdam:20250116T220000
SUMMARY:Huiskameravond Almelo
DESCRIPTION:Almelo houdt een huiskamerbijeenkomst! Kom je ook langs om kenn
 is te maken met mede Volt leden uit Almelo? Ervaren (oud) bestuursleden zul
 len langskomen om het een en ander te vertellen over Volt en hoe Volt Almel
 o ook zelf een community kan worden. De avond is open voor Volt leden en ge
 interesseerden. Wil je ook komen om mee te praten/denken over Volt in Almel
 o? Kom dan ook langs! Stuur een mailtje naar communicatie.overijssel@voltne
 derland.org voor deelname en het exacte adres
LOCATION:Almelo
URL:https://voltnederland.org/overijssel/agenda/huiskameravond-almelo
END:VEVENT
END:VCALENDAR
