BEGIN:VCALENDAR
VERSION:2.0
PRODID:-//Volt Europa//Events//EN
CALSCALE:GREGORIAN
METHOD:PUBLISH
BEGIN:VEVENT
UID:huiskameravond-almelo-202503-1743102000@voltnederland.org
DTSTAMP:20260421T222514Z
DTSTART;TZID=Europe/Amsterdam:20250327T200000
DTEND;TZID=Europe/Amsterdam:20250327T220000
SUMMARY:Huiskameravond Almelo
DESCRIPTION:In januari hebben we een huiskamerbijeenkomst gehad van leden i
 n Almelo. Het doel daarvan was vooral van gedachten wisselen en ervaringen 
 uitwisselen\, en mogelijk het begin van een actieve afdeling in Almelo. Nie
 t iedereen die dat wilde kon toen aanwezig zijn. De volgende bijeenkomst is
  gepland op komende  donderdag 27 maart om 20:00 uur . Als je dan kunt en a
 ls je kennis wilt maken\, dan ben je van harte welkom. Meld je aan en dan s
 turen we tzt het precieze adres op.  
LOCATION:Almelo
URL:https://voltnederland.org/overijssel/agenda/huiskameravond-almelo-20250
 3
END:VEVENT
END:VCALENDAR
