BEGIN:VCALENDAR
VERSION:2.0
PRODID:-//Volt Europa//Events//EN
CALSCALE:GREGORIAN
METHOD:PUBLISH
BEGIN:VEVENT
UID:hengelo-kickoff-grv-2026-1727803800@voltnederland.org
DTSTAMP:20260426T015258Z
DTSTART;TZID=Europe/Amsterdam:20241001T193000
DTEND;TZID=Europe/Amsterdam:20241001T223000
SUMMARY:Hengelo Kickoff GRV 2026
DESCRIPTION:Wie: Volt leden en geinteresseerden Wat: Aftrap voorbereidingen
  voor deelname GRV Waar: Hengelo\, precieze locatie hangt af van het aantal
  deelnemers Wanneer: 1 okt van 19:30 tot 22:30 Volt Hengelo wil graag meedo
 en aan de gemeenteraadsverkiezingen in 2026! Maar zijn er genoeg enthousias
 te mensen\, wat moet er nog bedacht worden voor beleid\, wat zijn goede din
 gen om te regelen? We zitten bij elkaar om te bekijken wat de tijdlijn zal 
 zijn\, wie er waar een bijdrage wil doen en hoe we ervoor kunnen z
LOCATION:Hengelo\, tbd
URL:https://voltnederland.org/agenda/hengelo-kickoff-grv-2026
END:VEVENT
END:VCALENDAR
