BEGIN:VCALENDAR
VERSION:2.0
PRODID:-//Volt Europa//Events//EN
CALSCALE:GREGORIAN
METHOD:PUBLISH
BEGIN:VEVENT
UID:hengelo-grv-bijeenkomst-1744394400@voltnederland.org
DTSTAMP:20260423T114411Z
DTSTART;TZID=Europe/Amsterdam:20250411T200000
DTEND;TZID=Europe/Amsterdam:20250411T220000
SUMMARY:Hengelo GRV bijeenkomst
DESCRIPTION:We zijn op weg en dat gaan we (een beetje) vieren op: Vrijdag 1
 1 april 2025 Van 20.00 tot 22.00 uur In de Tuinzaal van het Tuindorpbad Vij
 verlaan 63\, 7553 CD  Hengelo Een beetje\, omdat er nog een aantal stappen 
 gezet moet worden. Formeel moeten onze kandidaten nog solliciteren naar een
  plek op de kandidatenlijst.  We willen jullie\, als Hengelose leden graag 
 betrekken bij de hele campagne. Wees niet bang\, je kunt ons helpen op vers
 chillende manieren: Van het ophangen van een raamposter of vlag to
LOCATION:Tuinzaal van het Tuindorpbad\, Hengelo
URL:https://voltnederland.org/overijssel/agenda/hengelo-grv-bijeenkomst
END:VEVENT
END:VCALENDAR
