BEGIN:VCALENDAR
VERSION:2.0
PRODID:-//Volt Europa//Events//EN
CALSCALE:GREGORIAN
METHOD:PUBLISH
BEGIN:VEVENT
UID:hengelo-gemeenteraadsbijeenkomst-1739298600@voltnederland.org
DTSTAMP:20260423T114416Z
DTSTART;TZID=Europe/Amsterdam:20250211T193000
DTEND;TZID=Europe/Amsterdam:20250211T220000
SUMMARY:Hengelo Gemeenteraadsbijeenkomst
DESCRIPTION:In maart 2026 zijn er gemeenteraadsverkiezingen (GVK26). Vorige
  maand hielden we al een drukbezochte bijeenkomst in de voorbereiding op de
 ze verkiezingen. Op dinsdag 11 februari houden we de volgende bijeenkomst. 
 We hopen dat jullie er allemaal weer bij zijn. Inloop vanaf 19.30 uur.  Wie
 : Volt leden en geïnteresseerden Wat: GRV Hengelo  Waar: Buurthuis Dichter
 sbuurt\, Vondelstraat 5\, Hengelo. Wanneer: 11 februari vanaf 19.30
LOCATION:Hengelo\, Buurthuis Dichtersbuurt\, Vondelstraat 5
URL:https://voltnederland.org/overijssel/agenda/hengelo-gemeenteraadsbijeen
 komst
END:VEVENT
END:VCALENDAR
