BEGIN:VCALENDAR
VERSION:2.0
PRODID:-//Volt Europa//Events//EN
CALSCALE:GREGORIAN
METHOD:PUBLISH
BEGIN:VEVENT
UID:hansemahl2025-1755950400@voltnederland.org
DTSTAMP:20260423T101919Z
DTSTART;TZID=Europe/Amsterdam:20250823T140000
DTEND;TZID=Europe/Amsterdam:20250823T210000
SUMMARY:Hansemahl
DESCRIPTION:Wie: Volt leden en geinteresseerden Wat: Eurobabbel Hansemahl W
 aar: Coesfeld stadtmuseum Wanneer: 23 aug 2024 https://stadtmuseum.coesfeld
 .de/das-tor https://www.stephanus.eu/ De Eurobabbel is voor Iedereen met in
 teresse in taal en cultuur\, ook niet Volt leden zijn van harte welkom! Dit
  keer gaan we naar Coesfeld. We treffen elkaar om 14:00 uur op het stations
 plein in 48653 Coesfeld Bahnhofstraße 1. Je kunt gratis parkeren aan de ac
 hterkant van het station aan de Bahnweg. (loop door de tunnel na
LOCATION:Duitsland\, Coesfeld\, Bahnhofstrasse 1
URL:https://voltnederland.org/overijssel/agenda/hansemahl2025
END:VEVENT
END:VCALENDAR
