BEGIN:VCALENDAR
VERSION:2.0
PRODID:-//Volt Europa//Events//EN
CALSCALE:GREGORIAN
METHOD:PUBLISH
BEGIN:VEVENT
UID:europriddebabbel-1756551600@voltnederland.org
DTSTAMP:20260423T101922Z
DTSTART;TZID=Europe/Amsterdam:20250830T130000
DTEND;TZID=Europe/Amsterdam:20250830T170000
SUMMARY:EuroPRIDDEbabbel
DESCRIPTION:Wie: Iedereen met interesse in taal en cultuur\, ook niet Volt 
 leden zijn van harte welkom Wat: EuroPRIDEbabbel Waar: Münster Wanneer: 30
  augustus 13:00 - 17:00 Er wordt nog gewerkt aan het programma\, maar we ga
 an in elk geval meedoen met de Pride in Münster
LOCATION:Münster
URL:https://voltnederland.org/agenda/europriddebabbel
END:VEVENT
END:VCALENDAR
