BEGIN:VCALENDAR
VERSION:2.0
PRODID:-//Volt Europa//Events//EN
CALSCALE:GREGORIAN
METHOD:PUBLISH
BEGIN:VEVENT
UID:europaenschede-1715878800@voltnederland.org
DTSTAMP:20260423T101946Z
DTSTART;TZID=Europe/Amsterdam:20240516T190000
DTEND;TZID=Europe/Amsterdam:20240516T220000
SUMMARY:Politieke avond Twente - Europa in Overijssel
DESCRIPTION:Wat: Volt Twente Politieke avond  Voor wie:  Volt-leden en ie
 dereen die Volt interessant vindt Wanneer:  16 mei van 20:00 tot 22:00\, i
 nloop 19:45 Waar:  buurthuis dichtersbuurt\, vondelstraat 5 Onderwerp:  Eu
 ropa in Overijssel Algemeen: We willen iedereen die Volt interessant vindt 
 een plek bieden om elkaar te leren kennen\, en te praten over Enschede\, Eu
 ropa\, en politiek. Het idee is vooral om je eigen horizon te verbreden\, k
 ennis te maken met nieuwe/gezellige mensen en in een ontspannen\, open en
LOCATION:Hengelo\, Vondelstraat 5
URL:https://voltnederland.org/overijssel/agenda/europaenschede
END:VEVENT
END:VCALENDAR
