BEGIN:VCALENDAR
VERSION:2.0
PRODID:-//Volt Europa//Events//EN
CALSCALE:GREGORIAN
METHOD:PUBLISH
BEGIN:VEVENT
UID:eurobabbel-1728738000@voltnederland.org
DTSTAMP:20260423T113837Z
DTSTART;TZID=Europe/Amsterdam:20241012T150000
DTEND;TZID=Europe/Amsterdam:20241012T173000
SUMMARY:Eurobabbel - Slavernijverleden Overijsel
DESCRIPTION:Wie: Iedereen met interesse in taal en cultuur\, ook niet Volt 
 leden zijn van harte welkom Wat: Eurobabbel (Eurobabbel is een soort taalca
 fe om taal\, cultuur en ideeën uit te wisselen) Waar: Museumfabriek Ensche
 de Wanneer: zaterdag 12 oktober   van 13:45 tot 17:00 Deelname: opgeven ver
 plicht\, gratis Programma: 13:45 - 14:00 - Inloop 14:00 - 16:00 - Werken aa
 n het wandkleed + uitleg 16:00 - 17:00 - napraten + eind activiteit Vanaf 1
 7:00 spontaan afterbabble programma   Op 12 oktober is iedereen we
LOCATION:Enschede\, Museumfabriek
URL:https://voltnederland.org/overijssel/agenda/eurobabbel
END:VEVENT
END:VCALENDAR
