BEGIN:VCALENDAR
VERSION:2.0
PRODID:-//Volt Europa//Events//EN
CALSCALE:GREGORIAN
METHOD:PUBLISH
BEGIN:VEVENT
UID:eurobabbel-okt2025-1760180400@voltnederland.org
DTSTAMP:20260423T102220Z
DTSTART;TZID=Europe/Amsterdam:20251011T130000
DTEND;TZID=Europe/Amsterdam:20251011T160000
SUMMARY:Eurobabbel en campagne Enschede
DESCRIPTION:Wie: Volt leden en geinteresseerden Wat: Eurobabbel Waar: Ensch
 ede Wanneer: 11 oktober 2025 De Eurobabbel is voor Iedereen met interesse i
 n taal en cultuur\, ook niet Volt leden zijn van harte welkom! Dit keer gaa
 n we naar Enschede. We beginnen de dag met het uitdelen van hapjes aan de g
 rens bij Glanerbrug om het belang van open grenzen te laten zien. In de mid
 dag gaan we flyeren in het centrum van Enschede en hebben we een leuke groe
 psactiviteit gepland. We sluiten s'avonds af met eten voor dege
LOCATION:Enschede en Glanerbrug
URL:https://voltnederland.org/agenda/eurobabbel-okt2025
END:VEVENT
END:VCALENDAR
