BEGIN:VCALENDAR
VERSION:2.0
PRODID:-//Volt Europa//Events//EN
CALSCALE:GREGORIAN
METHOD:PUBLISH
BEGIN:VEVENT
UID:eurobabbel-geen-grenzen-maar-verbinding-in-de-regio-1769864400@voltnede
 rland.org
DTSTAMP:20260423T212703Z
DTSTART;TZID=Europe/Amsterdam:20260131T140000
DTEND;TZID=Europe/Amsterdam:20260131T170000
SUMMARY:Eurobabbel: Geen grenzen\, maar verbinding in de regio
DESCRIPTION:Wie: Iedereen met interesse Wat: Eurobabbel/themabijeenkomst ov
 er verbinding in de regio Waar: GrenzBlickAtelier im PS Raum Bolandshof Hah
 nenpatt 2\, 46399 Bocholt-Suderwick Wanneer: 31 jan. 2026 van 14:00 – 17:
 00 Ontmoet Volt-partijleden uit Nederland en Duitsland tijdens een inspirer
 ende middag in het grensdorp Dinxperwick! Op zaterdag 31 januari zijn we te
  gast bij het GrenzBlickAtelier van Joop en Verena in Bocholt-Suderwick. Zi
 j delen hun persoonlijke verhaal over het leven in een grensgemee
LOCATION:Bocholt-Suderwick
URL:https://voltnederland.org/overijssel/agenda/eurobabbel-geen-grenzen-maa
 r-verbinding-in-de-regio
END:VEVENT
END:VCALENDAR
