BEGIN:VCALENDAR
VERSION:2.0
PRODID:-//Volt Europa//Events//EN
CALSCALE:GREGORIAN
METHOD:PUBLISH
BEGIN:VEVENT
UID:eurobabbel-dec2025-1765638000@voltnederland.org
DTSTAMP:20260423T102046Z
DTSTART;TZID=Europe/Amsterdam:20251213T160000
DTEND;TZID=Europe/Amsterdam:20251213T200000
SUMMARY:Eurobabbel Kerstmarkt
DESCRIPTION:Wie: Volt leden en geinteresseerden Wat: Eurobabbel Waar: Duits
 land Wanneer: 13 december 2025 De Eurobabbel is voor Iedereen met interesse
  in taal en cultuur\, ook niet Volt leden zijn van harte welkom! Dit keer g
 aan we naar een Duitse kerstmarkt. Programma: 16:00 uur: Wordt nog aan gewe
 rkt\, meer informatie volgt snel --------------------------------- Who: Vol
 t members and interested parties What: Eurobabbel Where: Germany When: 13 D
 ecember 2025 Eurobabbel is for anyone interested in language and
LOCATION:Münsterland
URL:https://voltnederland.org/overijssel/agenda/eurobabbel-dec2025
END:VEVENT
END:VCALENDAR
