BEGIN:VCALENDAR
VERSION:2.0
PRODID:-//Volt Europa//Events//EN
CALSCALE:GREGORIAN
METHOD:PUBLISH
BEGIN:VEVENT
UID:eurobabbel-achterhoek-1758970800@voltnederland.org
DTSTAMP:20260423T102101Z
DTSTART;TZID=Europe/Amsterdam:20250927T130000
DTEND;TZID=Europe/Amsterdam:20250927T170000
SUMMARY:Eurobabbel - Water kent geen grenzen
DESCRIPTION:(English below - Deutsch unter) Wie: Iedereen met interesse in 
 taal en cultuur is van harte welkom Wat: Eurobabbel water kent geen grenzen
  Waar: Lochem Wanneer:  27 sept 14:00 - 17:00 Deelname: 0 - 4 euro vrijwill
 ige bijdrage\, inclusief koffie en thee Water trekt zich niets aan van door
  mensen gemaakte grenzen. Het is altijd een bron van verbinding geweest\, m
 aar ook van conflict. Met de toenemende extreme weersomstandigheden – zoa
 ls droogtes en overstromingen – staat waterbeheer meer dan ooit ho
LOCATION:Lochem
URL:https://voltnederland.org/overijssel/agenda/eurobabbel-achterhoek
END:VEVENT
END:VCALENDAR
