BEGIN:VCALENDAR
VERSION:2.0
PRODID:-//Volt Europa//Events//EN
CALSCALE:GREGORIAN
METHOD:PUBLISH
BEGIN:VEVENT
UID:eurobabbel-2026-osnabruck-1777114800@voltnederland.org
DTSTAMP:20260421T150151Z
DTSTART;TZID=Europe/Amsterdam:20260425T130000
DTEND;TZID=Europe/Amsterdam:20260425T210000
SUMMARY:Eurobabbel campagne in Duitsland
DESCRIPTION:Wie: Iedereen met interesse Wat: Eurobabbel/campagne in Duitsla
 nd Waar: OsnabrÃ¼ck\, markt en Bottled Wanneer: 10 oktober 2026 van 13:00 â
 €“ 17:00 en vanaf 19:00 13:00 - 17:00 Infostand  for the local elections at
  Hagen somewhere around the Marktplatz. The final place will be decided at 
 the Eurobabbel itself. Our local candidate for the Kreistagswahl\, Joanna\,
  will most likely be there too for some conversations and collecting signat
 ures. Location: Marktplatz\, 49170 Hagen am Teutoburger Wald  Transpo
LOCATION:OsnabrÃ¼ck
URL:https://voltnederland.org/overijssel/agenda/eurobabbel-2026-osnabruck
END:VEVENT
END:VCALENDAR
