BEGIN:VCALENDAR
VERSION:2.0
PRODID:-//Volt Europa//Events//EN
CALSCALE:GREGORIAN
METHOD:PUBLISH
BEGIN:VEVENT
UID:eurobabbel-2025juli-1753531200@voltnederland.org
DTSTAMP:20260423T102104Z
DTSTART;TZID=Europe/Amsterdam:20250726T140000
DTEND;TZID=Europe/Amsterdam:20250726T180000
SUMMARY:Eurobabbel Osnabrück
DESCRIPTION:Wie: Iedereen met interesse in taal en cultuur\, ook niet Volt 
 leden zijn van harte welkom Wat: Eurobabbel Osnabrück Waar: Osnabrück Wan
 neer: 26 juli We nodigen je graag uit om op 26 juli naar Osnabrück te kome
 n. Allereerst hartelijk dank aan ons raadslid Lukas Ölmann\, die voor ons 
 een rondleiding door “die Villa” heeft georganiseerd. Het gebouw was oo
 it eigendom van een Joodse familie en was tijdens het nationaalsocialistisc
 he tijdperk het hoofdkwartier van de NSDAP in Osnabrück. Sinds september
LOCATION:Euregio\, Osnabrück
URL:https://voltnederland.org/overijssel/agenda/eurobabbel-2025juli
END:VEVENT
END:VCALENDAR
