BEGIN:VCALENDAR
VERSION:2.0
PRODID:-//Volt Europa//Events//EN
CALSCALE:GREGORIAN
METHOD:PUBLISH
BEGIN:VEVENT
UID:eurobabbel-2025april-1744459200@voltnederland.org
DTSTAMP:20260423T173938Z
DTSTART;TZID=Europe/Amsterdam:20250412T140000
DTEND;TZID=Europe/Amsterdam:20250412T180000
SUMMARY:Eurobabbel Studeren over de grens
DESCRIPTION:Wie: Iedereen met interesse in taal en cultuur\, ook niet Volt 
 leden zijn van harte welkom Wat: Eurobabbel studeren over de grens Waar: Ne
 derland Wanneer: 12 april Aan het programma wordt nog gewerkt\, maar het za
 l plaatsvinden in Nederland. Het thema van de eurobabbel is studeren over d
 e grens. Graag even aanmelden\, dan weten we wie er komt en kunnen we je tz
 t informatie geven over de precieze plannen.
LOCATION:Euregio\, Nederland
URL:https://voltnederland.org/overijssel/agenda/eurobabbel-2025april
END:VEVENT
END:VCALENDAR
