BEGIN:VCALENDAR
VERSION:2.0
PRODID:-//Volt Europa//Events//EN
CALSCALE:GREGORIAN
METHOD:PUBLISH
BEGIN:VEVENT
UID:een-betere-democratie-verkiezingsprogramma-grv-1749576600@voltnederland
 .org
DTSTAMP:20260423T114442Z
DTSTART;TZID=Europe/Amsterdam:20250610T193000
DTEND;TZID=Europe/Amsterdam:20250610T210000
SUMMARY:Een betere democratie - Verkiezingsprogramma GRV
DESCRIPTION:Het democratieteam van Volt Nederland gaat in gesprek over demo
 cratie! Weet jij al hoe democratie een plek krijgt in het Volt verkiezingsp
 rogramma van jouw gemeente voor de gemeenteraadsverkiezingen (GRV) in 2026?
  Wat moet er echt wel of niet in staan? Hoe geven we vorm aan het landelijk
 e template en welke goede ideeën kunnen we delen? Kom langs tijdens deze o
 nline bijeenkomst en dan gaan we samen kijken naar hoe we het huidige templ
 ate verder kunnen aanvullen en tot een nog beter plan voor demo
LOCATION:Online
URL:https://voltnederland.org/overijssel/agenda/een-betere-democratie-verki
 ezingsprogramma-grv
END:VEVENT
END:VCALENDAR
